BEGIN:VCALENDAR
VERSION:2.0
PRODID:-//Badminton World Tour - ECPv6.15.20//NONSGML v1.0//EN
CALSCALE:GREGORIAN
METHOD:PUBLISH
X-ORIGINAL-URL:https://badmintonworldtour.com
X-WR-CALDESC:Events for Badminton World Tour
REFRESH-INTERVAL;VALUE=DURATION:PT1H
X-Robots-Tag:noindex
X-PUBLISHED-TTL:PT1H
BEGIN:VTIMEZONE
TZID:Asia/Shanghai
BEGIN:STANDARD
TZOFFSETFROM:+0800
TZOFFSETTO:+0800
TZNAME:CST
DTSTART:20170101T000000
END:STANDARD
END:VTIMEZONE
BEGIN:VEVENT
DTSTART;VALUE=DATE:20180116
DTEND;VALUE=DATE:20180122
DTSTAMP:20260420T035136
CREATED:20250629T103815Z
LAST-MODIFIED:20250629T103914Z
UID:25434-1516060800-1516579199@badmintonworldtour.com
SUMMARY:2018 Malaysia Masters
DESCRIPTION:The 2018 Malaysia Masters (also known as the Perodua Malaysia Masters 2018 presented by Daihatsu for sponsorship reasons) was a badminton tournament held at the Axiata Arena in Kuala Lumpur\, Malaysia\, from January 16 to January 21\, 2018. It was the 11th edition of the Malaysia Masters\, and part of the BWF World Tour Super 500 tournaments on the 2018 BWF World Tour. This event featured a total prize fund of US$350\,000. \nChampions\nPodium \n\n\n\nMen’s Singles\nViktor Axelsen (DEN)\n\n\nWomen’s Singles\nRatchanok Intanon (THA)\n\n\nMen’s Doubles\nFajar Alfian / Muhammad Rian Ardianto (INA)\n\n\nWomen’s Doubles\nKamilla Rytter Juhl / Christinna Pedersen (DEN)\n\n\nMixed Doubles\nTang Chun Man / Tse Ying Suet (HKG)\n\n\n\nResults and Tournament Draw \nPrize Money Distribution\n\n\n\n \nSingles\nDoubles\n\n\nW\n$26\,250\n$27\,650\n\n\nF\n$13\,300\n$13\,300\n\n\nSF\n$5\,075\n$4\,900\n\n\nQF\n$2\,100\n$2\,537.50\n\n\nRound of 16\n$1\,225\n$1\,312.50\n\n\n\nMalaysia Masters Status Timeline on BWF World Tour\n\n\n\nYear\nStatus\nPrize Money\n\n\n2018\nSuper 500\nUS$350\,000\n\n\n2019\nSuper 500\nUS$350\,000\n\n\n2020\nSuper 500\nUS$400\,000\n\n\n2021\nCanceled\n–\n\n\n2022\nSuper 500\nUS$360\,000\n\n\n2023\nSuper 300\nUS$420\,000\n\n\n2024\nSuper 300\nUS$420\,000\n\n\n2025\nSuper 300\nUS475\,000\n\n\n2026\nSuper 300\nUS$500\,000\n\n\n\nWikipedia Article
URL:https://badmintonworldtour.com/event/2018-malaysia-masters/
LOCATION:Axiata Arena\, L2-E-10\, Enterprise 4\, Technology Park Malaysia\, Lebuhraya Bukit Jalil\, Bukit Jalil\, Kuala Lumpur\, Wilayah Persekutuan Kuala Lumpur\, 57000\, Malaysia
CATEGORIES:BWF World Tour
ATTACH;FMTTYPE=image/png:https://badmintonworldtour.com/wp-content/uploads/2025/06/Malaysia_masters_2018_logo.png
ORGANIZER;CN="Badminton Association of Malaysia":MAILTO:events@bam.org.my
END:VEVENT
END:VCALENDAR