BEGIN:VCALENDAR
VERSION:2.0
PRODID:-//Badminton World Tour - ECPv6.15.20//NONSGML v1.0//EN
CALSCALE:GREGORIAN
METHOD:PUBLISH
X-WR-CALNAME:Badminton World Tour
X-ORIGINAL-URL:https://badmintonworldtour.com
X-WR-CALDESC:Events for Badminton World Tour
REFRESH-INTERVAL;VALUE=DURATION:PT1H
X-Robots-Tag:noindex
X-PUBLISHED-TTL:PT1H
BEGIN:VTIMEZONE
TZID:Europe/Copenhagen
BEGIN:DAYLIGHT
TZOFFSETFROM:+0100
TZOFFSETTO:+0200
TZNAME:CEST
DTSTART:20250330T010000
END:DAYLIGHT
BEGIN:STANDARD
TZOFFSETFROM:+0200
TZOFFSETTO:+0100
TZNAME:CET
DTSTART:20251026T010000
END:STANDARD
BEGIN:DAYLIGHT
TZOFFSETFROM:+0100
TZOFFSETTO:+0200
TZNAME:CEST
DTSTART:20260329T010000
END:DAYLIGHT
BEGIN:STANDARD
TZOFFSETFROM:+0200
TZOFFSETTO:+0100
TZNAME:CET
DTSTART:20261025T010000
END:STANDARD
BEGIN:DAYLIGHT
TZOFFSETFROM:+0100
TZOFFSETTO:+0200
TZNAME:CEST
DTSTART:20270328T010000
END:DAYLIGHT
BEGIN:STANDARD
TZOFFSETFROM:+0200
TZOFFSETTO:+0100
TZNAME:CET
DTSTART:20271031T010000
END:STANDARD
END:VTIMEZONE
BEGIN:VEVENT
DTSTART;TZID=Europe/Copenhagen:20260424T000000
DTEND;TZID=Europe/Copenhagen:20260503T235959
DTSTAMP:20260424T013500
CREATED:20260331T024521Z
LAST-MODIFIED:20260331T024526Z
UID:27784-1776988800-1777852799@badmintonworldtour.com
SUMMARY:2026 Thomas Cup
DESCRIPTION:The 2026 Thomas Cup marks the 34th edition of the world’s most prestigious men’s team badminton championship. Hosted by Badminton Denmark\, this edition brings the “World Cup of Badminton” to the city of Horsens. As the biennial event returns to European soil\, the stakes are higher than ever\, with defending champions China looking to maintain their dominance while a resurgent France and a determined Danish host squad aim to disrupt the traditional Asian stronghold. \n\n\n\n\n\n\n\nTournament Date and Venue\n\n\n\nThe championship is scheduled to take place over 10 days of high-octane action\, from Friday\, 24th April to Sunday\, 3rd May 2026. \n\n\n\n\nHost City: Horsens\, Denmark\n\n\n\nCompetition Venue: Forum Horsens\n\n\n\nOfficial Website: www.denmark2026.dk\n\n\n\nTickets: Available at denmark2026.dk/tickets/\n\n\n\n\nForum Horsens will be equipped with the Instant Review System (IRS) on Court 1 and Court 2 to ensure the highest level of officiating accuracy for the world’s top players. \n\n\n\n\n\n\n\nTournament Schedule\n\n\n\nThe 2026 Thomas Cup follows a rigorous schedule\, beginning with a six-day group stage followed by a high-stakes knockout phase. \n\n\n\nDateDayRoundSession Times24 – 27 AprilDays 1–4Group Stage08:30 & 18:3028 – 29 AprilDays 5–6Group Stage (Final Ties)10:00 & 18:00/18:301 May 2026Day 8Thomas Cup Quarterfinals10:00 & 18:002 May 2026Day 9Thomas Cup Semifinals18:003 May 2026Day 10Thomas Cup Final18:00\n\n\n\n\nNote: The Knockout Draw for the Thomas Cup will take place on Thursday\, 30th April 2026\, at 10:30 CET in the Forum Horsens Media Centre\, once the group rankings are finalized. \n\n\n\n\n\n\n\n\nPoints on Offer\n\n\n\nThe Thomas Cup is a Premier BWF event. While it is a team tournament\, players earn BWF World Ranking points based on the average strength of the opponents they defeat and their team’s final standing. These points are crucial for maintaining seeding in individual World Tour events and the upcoming World Championships. \n\n\n\nFinishing PositionRanking Points (Per Player)Winner12\,000Runner-up10\,200Semifinalists8\,400Quarterfinalists6\,600\n\n\n\nThe Prestige Factor: A Tournament Without Prize Money\n\n\n\nUnlike the BWF World Tour events where players compete for multimillion-dollar purses\, the BWF Thomas Cup is a unique fixture on the international calendar for one specific reason: it offers no prize money. \n\n\n\nWhether a nation lifts the trophy or exits in the group stages\, there are no financial payouts from the BWF to the participating teams or individual players. This tradition underscores the Thomas Cup’s status as a tournament defined purely by national pride\, honor\, and historical legacy. \n\n\n\nWhy Do the Stars Still Compete?\n\n\n\nGiven the absence of a prize pool\, the motivation for the world’s elite players to travel to Horsens remains high due to several key factors: \n\n\n\n\nWorld Ranking Points: As noted in the points breakdown\, the Thomas Cup offers significant BWF ranking points (up to 12\,000 for winners). These are vital for qualifying for the World Tour Finals and maintaining top seeding in individual tournaments.\n\n\n\nNational Incentives: While the BWF does not provide prize money\, many national federations and governments (such as those of Indonesia\, Malaysia\, and India) often award substantial private bonuses or life-long pensions to their athletes for winning the title.\n\n\n\nBadminton Immortality: In the badminton world\, winning a Thomas Cup medal is considered a career-defining achievement\, often held in higher regard than winning multiple Open titles.\n\n\n\n\n\n“The Thomas Cup is played for the flag\, not the paycheck. It is the one week every two years where the world’s best prioritize collective glory over individual gain.” \n\n\n\n\n\n\n\n\nQualified Teams & Group Draw\n\n\n\nSixteen nations have qualified through continental championships and world team rankings. This year’s draw has produced several “Groups of Death\,” particularly involving the rising European powers. \n\n\n\nGroup A: The Heavyweights\n\n\n\n\nChina (Defending Champions)\n\n\n\nIndia (2022 Champions)\n\n\n\nCanada\n\n\n\nAustralia\n\n\n\n\nGroup A features a mouth-watering rematch between the two most recent champions\, China and India. While Canada and Australia provide spirited competition\, the battle for the top seed in this group will likely be a tactical masterclass between the depth of China and the top-heavy strength of India. \n\n\n\nGroup B: The Tactical Battle\n\n\n\n\nJapan\n\n\n\nMalaysia\n\n\n\nEngland\n\n\n\nFinland\n\n\n\n\nJapan enters as the top seed in this group\, but they face a dangerous Malaysia team known for peaking during team events. England and Finland represent the European contingent here\, with Finland accepting a reallocated spot after Germany declined. \n\n\n\nGroup C: The Scandinavian Showdown\n\n\n\n\nChinese Taipei\n\n\n\nDenmark (Hosts)\n\n\n\nSouth Korea\n\n\n\nSweden\n\n\n\n\nThe host nation\, Denmark\, leads Group C. They face a daunting task against Chinese Taipei\, led by veteran stars\, and a South Korean team that recently found success in the Asian Team Championships. Sweden rounds out the group\, setting up a Nordic derby against the hosts. \n\n\n\nGroup D: The Group of Death\n\n\n\n\nIndonesia\n\n\n\nFrance\n\n\n\nThailand\n\n\n\nAlgeria\n\n\n\n\nThis is undoubtedly the most difficult group to predict. France enters as the 5th seed globally after their historic win at the 2026 European Team Championships. They must navigate past the powerhouse Indonesia and a Thailand squad boasting the current World No. 1 in singles. \n\n\n\n\n\n\n\nStars to Watch\n\n\n\nThe 2026 Thomas Cup features a “who’s who” of world badminton. With the tournament serving as a critical barometer for team strength\, every nation is fielding their strongest possible rosters. \n\n\n\nThe Singles Titans\n\n\n\n\nKunlavut Vitidsarn (Thailand): The current World No. 1 and reigning World Champion. His defensive mastery and tactical patience make him nearly impossible to beat in a team format where every point counts.\n\n\n\nShi Yuqi (China): The veteran leader of the defending champions. His experience and lethal attacking play remain the backbone of the Chinese squad.\n\n\n\nAnders Antonsen (Denmark): Carrying the hopes of the home crowd. Antonsen has been in scintillating form in early 2026 and will look to use the Horsens atmosphere to his advantage.\n\n\n\nJonatan Christie (Indonesia): A team-event specialist. “Jojo” has a history of delivering clutch wins for Indonesia and remains one of the most physically imposing players on tour.\n\n\n\nAlex Lanier & Christo Popov (France): The “New Wave” of European badminton. Both are ranked in the world’s top 10 and represent France’s best chance at a historic podium finish.\n\n\n\nLakshya Sen (India): Following a final appearance at the All England 2026\, Sen is the spearhead for an Indian team looking to reclaim the magic of their 2022 victory.\n\n\n\n\nThe Doubles Powerhouses: Elite Pairs to Watch\n\n\n\nWhile singles players often grab the headlines\, the Thomas Cup is frequently decided by the strength of the doubles pairings. In 2026\, the field is topped by a mix of disciplined veterans and explosive young duos. Here are the top five ranked pairs heading into the tournament: \n\n\n\nRankNamesNationTotal Points1Kim Won-ho / Seo Seung-jaeSouth Korea121\,2552Aaron Chia / Soh Wooi YikMalaysia97\,3503Liang Weikeng / Wang ChangChina85\,3764Satwiksairaj Rankireddy / Chirag ShettyIndia84\,5185Fajar Alfian / Muhammad Shohibul FikriIndonesia82\,790\n\n\n\n\n\n\n\nScouting the Contenders\n\n\n\n\nThe South Korean Wall (Rank 1): Kim Won-ho and Seo Seung-jae have established themselves as the gold standard of consistency. With over 121\,000 points from just 15 tournaments\, their efficiency is staggering. For South Korea to progress in Group C\, this pair must remain undefeated.\n\n\n\nThe Malaysian Backbone (Rank 2): Aaron Chia and Soh Wooi Yik are the emotional heart of the Malaysian squad. Known for their tactical “clutch” play in team environments\, they are the primary reason Malaysia is considered a favorite to escape Group B.\n\n\n\nThe Defending Power (Rank 3): China’s Liang and Wang bring a high-speed\, aggressive style that defines the modern game. As the top pair for the defending champions\, they will face an immediate test in Group A against India’s power hitters.\n\n\n\nThe Indian Rockets (Rank 4): Satwiksairaj Rankireddy and Chirag Shetty possess arguably the heaviest smashes in the world. Their presence makes India a nightmare for any opponent\, as they are capable of beating any pair on this list on any given day.\n\n\n\nThe New Indonesian Duo (Rank 5): The pairing of veteran Fajar Alfian with the younger Muhammad Shohibul Fikri has proven to be a masterstroke. Despite playing the fewest tournaments among the top five\, their high points-per-tournament ratio makes them the “dark horse” pair of the 2026 Finals.\n\n\n\n\n\n\n\n\nConclusion: A Shift in the Balance of Power?\n\n\n\nFor decades\, the Thomas Cup was a tug-of-war between Indonesia\, China\, and Malaysia. However\, 2026 feels different. The rise of France—now seeded above Denmark—and the continued excellence of India and Thailand have turned the tournament into a truly global affair. \n\n\n\nAs the fans descend upon Forum Horsens\, all eyes will be on whether the Danish hosts can reclaim the trophy they last held in 2016\, or if the “Great Wall” of China will prove too high once again. One thing is certain: between April 24 and May 3\, Denmark will be the center of the sporting world.
URL:https://badmintonworldtour.com/event/2026-thomas-cup/
LOCATION:Forum Horsens\, Langmarksvej 53\, Horsens\, 8700\, Denmark
CATEGORIES:BWF Grade 1 Tournaments
ATTACH;FMTTYPE=image/jpeg:https://badmintonworldtour.com/wp-content/uploads/2026/03/2026-Thomas-Cup.jpg
ORGANIZER;CN="Badminton Denmark":MAILTO:event@badminton.dk
END:VEVENT
BEGIN:VEVENT
DTSTART;TZID=Europe/Copenhagen:20260424T000000
DTEND;TZID=Europe/Copenhagen:20260503T235959
DTSTAMP:20260424T013500
CREATED:20260331T031248Z
LAST-MODIFIED:20260331T031251Z
UID:27789-1776988800-1777852799@badmintonworldtour.com
SUMMARY:2026 Uber Cup
DESCRIPTION:The 2026 Uber Cup stands as the 31st edition of the world’s premier women’s team badminton championship. Parallel to the Thomas Cup\, this prestigious event will bring the elite of the women’s game to Horsens\, Denmark. As the “Great Wall” of China seeks to defend their 16th title\, a rising tide of European talent and the technical brilliance of Japan and South Korea set the stage for one of the most unpredictable tournaments in recent memory. \n\n\n\n\n\n\n\nTournament Date and Venue\n\n\n\nThe 2026 Uber Cup shares the stage with the men’s event\, running from Friday\, 24th April to Sunday\, 3rd May 2026. \n\n\n\n\nHost City: Horsens\, Denmark\n\n\n\nCompetition Venue: Forum Horsens\n\n\n\nOfficial Website: www.denmark2026.dk\n\n\n\nInstant Review System (IRS): Available on Courts 1 and 2 to ensure precision in high-stakes rallies.\n\n\n\n\n\n\n\n\nTournament Schedule\n\n\n\nThe Uber Cup follows a mirror-image schedule to the Thomas Cup\, but with its own dedicated knockout draw ceremony. \n\n\n\nDateDayRoundSession Times24 – 29 AprilDays 1–6Group Stage08:30 / 10:00 & 18:00 / 18:3030 April 2026Day 7Uber Cup Quarterfinals10:00 & 18:002 May 2026Day 9Uber Cup Semifinals10:003 May 2026Day 10Uber Cup Final10:00\n\n\n\n\nKnockout Draw: The Uber Cup knockout bracket will be finalized on Wednesday\, 29 April 2026\, at 10:30 CET at the Forum Horsens Media Centre. \n\n\n\n\n\n\n\n\nPoints on Offer\n\n\n\nThe Uber Cup remains one of the highest-weighted events for the BWF World Rankings. For the top stars\, these points are essential for securing high seedings in individual World Tour events. \n\n\n\nFinishing PositionRanking Points (Per Player)Winner12\,000Runner-up10\,200Semifinalists8\,400Quarterfinalists6\,600\n\n\n\n\n\n\n\nQualified Teams & Group Draw\n\n\n\nThe 16 nations competing in Horsens have emerged from a rigorous qualification cycle. Spain notably enters the fray as a reallocated entry after France and Scotland declined their invitations. \n\n\n\nGroup A: The Defending Champions\n\n\n\n\nChina (Defending Champions)\n\n\n\nIndia\n\n\n\nDenmark (Hosts)\n\n\n\nUkraine\n\n\n\n\nThis is a daunting group for the hosts. China enters as the heavy favorite with 16 titles to their name\, while India remains a dangerous contender despite a decade-long semifinal drought. Ukraine and Denmark will look to utilize their European familiarity to cause an upset. \n\n\n\nGroup B: The Rising Sun vs. The Crescent\n\n\n\n\nJapan\n\n\n\nMalaysia\n\n\n\nTürkiye\n\n\n\nSouth Africa\n\n\n\n\nJapan is the clear favorite here\, but Türkiye stands out as the only European team in the draw not sharing a group with another European side. Malaysia will be the primary challenger to Japan’s dominance in this pool. \n\n\n\nGroup C: The Asian-Pacific Clash\n\n\n\n\nChinese Taipei\n\n\n\nIndonesia\n\n\n\nCanada\n\n\n\nAustralia\n\n\n\n\nThis group features a fascinating stylistic battle between the technical prowess of Chinese Taipei and the resurgent Indonesian squad. Canada and Australia round out a group that promises high-intensity doubles matches. \n\n\n\nGroup D: The European Derby\n\n\n\n\nSouth Korea\n\n\n\nThailand\n\n\n\nBulgaria\n\n\n\nSpain\n\n\n\n\nGroup D is arguably the most competitive. While South Korea and Thailand are perennial knockout-stage residents\, the inclusion of Bulgaria (led by the Stoeva sisters) and Spain makes every tie a potential banana skin for the favorites. \n\n\n\n\n\n\n\nStars to Watch: Singles (WS)\n\n\n\nThe Women’s Singles field in 2026 is dominated by a mix of defensive maestros and young speedsters. \n\n\n\nRankNameNationTotal Points1An Se-youngSouth Korea115\,7702Wang ZhiyiChina105\,1623Chen YufeiChina95\,6354Akane YamaguchiJapan93\,0645Han YueChina87\,550\n\n\n\nAn Se-young remains the woman to beat\, boasting a defensive game that frustrates even the most aggressive attackers. However\, China’s “Triple Threat” of Wang Zhiyi\, Chen Yufei\, and Han Yue gives them a depth that no other nation can match in a best-of-five format. Watch for Thailand’s Ratchanok Intanon (Rank 7) to provide the veteran magic that often defines team events. \n\n\n\n\n\n\n\nStars to Watch: Doubles (WD)\n\n\n\nThe Women’s Doubles rankings show a fierce battle for supremacy\, with China and South Korea currently holding the edge. \n\n\n\nRankNamesNationTotal Points1Liu Shengshu / Tan NingChina119\,0842Pearly Tan / Thinaah M.Malaysia96\,7503Baek Ha-na / Lee So-heeSouth Korea92\,4304Jia Yifan / Zhang ShuxianChina89\,6605Kim Hye-jeong / Kong Hee-yongSouth Korea87\,267\n\n\n\nThe Chinese pair of Liu Shengshu and Tan Ning have been nearly untouchable in 2026. However\, Malaysia’s Pearly Tan and Thinaah Muralitharan have surged to Rank 2\, making them a “Point A” guarantee for Malaysia. European fans should keep a close eye on Gabriela and Stefani Stoeva (Rank 10)\, whose chemistry and experience could see Bulgaria pull off a major upset in Group D. \n\n\n\n\n\n\n\nPrize Money: A Badge of Honor\n\n\n\nConsistent with the tradition of the Thomas Cup\, the 2026 Uber Cup does not offer prize money to players or participating teams. \n\n\n\nThe BWF treats this championship as a “Major\,” where the rewards are purely honorary. The absence of a purse emphasizes the spirit of amateurism in its truest sense—playing for the glory of the nation. \n\n\n\nFinancial Realities\n\n\n\n\nNo Payouts: There are no appearance fees or performance bonuses from the BWF.\n\n\n\nFederation Bonuses: Most top-tier players receive performance-based rewards from their national sporting bodies. For example\, the Indonesian and Korean governments are known to provide significant financial incentives for podium finishes.\n\n\n\nCommercial Value: While there is no direct prize money\, winning the Uber Cup significantly increases a player’s marketability and sponsorship value back home.\n\n\n\n\n\n\n\n\nSummary\n\n\n\nThe 2026 Uber Cup in Horsens is set to be a celebration of women’s sport. With the home crowd backing the Danish team in Group A and the world’s Top 10 stars all in attendance\, the gap between the traditional Asian powerhouses and the rest of the world has never been narrower. Whether it is An Se-young’s precision or the sheer power of Liu Shengshu\, the Forum Horsens will witness the pinnacle of badminton excellence.
URL:https://badmintonworldtour.com/event/2026-uber-cup/
LOCATION:Forum Horsens\, Langmarksvej 53\, Horsens\, 8700\, Denmark
CATEGORIES:BWF Grade 1 Tournaments
ATTACH;FMTTYPE=image/jpeg:https://badmintonworldtour.com/wp-content/uploads/2026/03/2026-Uber-Cup.jpg
ORGANIZER;CN="Badminton Denmark":MAILTO:event@badminton.dk
END:VEVENT
END:VCALENDAR