BEGIN:VCALENDAR
VERSION:2.0
PRODID:-//Badminton World Tour - ECPv6.15.20//NONSGML v1.0//EN
CALSCALE:GREGORIAN
METHOD:PUBLISH
X-WR-CALNAME:Badminton World Tour
X-ORIGINAL-URL:https://badmintonworldtour.com
X-WR-CALDESC:Events for Badminton World Tour
REFRESH-INTERVAL;VALUE=DURATION:PT1H
X-Robots-Tag:noindex
X-PUBLISHED-TTL:PT1H
BEGIN:VTIMEZONE
TZID:Asia/Kuala_Lumpur
BEGIN:STANDARD
TZOFFSETFROM:+0800
TZOFFSETTO:+0800
TZNAME:+08
DTSTART:20250101T000000
END:STANDARD
END:VTIMEZONE
BEGIN:VTIMEZONE
TZID:Asia/Kolkata
BEGIN:STANDARD
TZOFFSETFROM:+0530
TZOFFSETTO:+0530
TZNAME:IST
DTSTART:20250101T000000
END:STANDARD
END:VTIMEZONE
BEGIN:VTIMEZONE
TZID:Asia/Jakarta
BEGIN:STANDARD
TZOFFSETFROM:+0700
TZOFFSETTO:+0700
TZNAME:WIB
DTSTART:20250101T000000
END:STANDARD
END:VTIMEZONE
BEGIN:VTIMEZONE
TZID:Asia/Bangkok
BEGIN:STANDARD
TZOFFSETFROM:+0700
TZOFFSETTO:+0700
TZNAME:+07
DTSTART:20250101T000000
END:STANDARD
END:VTIMEZONE
BEGIN:VEVENT
DTSTART;TZID=Asia/Kuala_Lumpur:20260106T000000
DTEND;TZID=Asia/Kuala_Lumpur:20260111T235959
DTSTAMP:20260419T210421
CREATED:20250430T131345Z
LAST-MODIFIED:20260113T125555Z
UID:545-1767657600-1768175999@badmintonworldtour.com
SUMMARY:2026 Malaysia Open
DESCRIPTION:Updated on April 13\, 2026\n\n\nThe 2026 Malaysia Open (also known as the Petronas Malaysia Open 2026 for sponsorship reasons) was a major badminton tournament taking place at the Axiata Arena in Kuala Lumpur\, Malaysia\, from 6 to 11 January 2026\, comprising singles\, doubles\, and mixed doubles play. It was the 69th edition of the Malaysia Open championships that had been held annually since 1937 and was part of the 2026 Badminton World Federation (BWF) World Tour as a Super 1000 event on 2026 BWF World Tour. The total prize money for this tournament was US$1\,450\,000. \n\n\n\nThe 2026 Malaysia Open was the first Super 1000 event of 2026 as well as the opener of the 2026 BWF World Tour calendar. Shi Yuqi and An Se-young were the defending champions in the men’s singles and women’s singles\, respectively. Both players advanced to the finals\, but only An Se-young successfully defended her title. Shi Yuqi was forced to withdraw from the match due to injury. \n\n\n\nKunlavut Vitidsarn of Thailand won the men’s singles title\, marking the first Super 1000 title of his career. \n\n\n\nChampions\n\n\n\nEventChampion(s)Runner(s)-upScoreMen’s Singles🇹🇭 Kunlavut Vitidsarn [2]🇨🇳 Shi Yuqi [1]23-21\, 6-1rWomen’s Singles🇰🇷 An Se-young [1]🇨🇳 Wang Zhiyi [2]21-15\, 24-22Men’s Doubles🇰🇷 Kim Won-ho [1]🇰🇷 Seo Seung-jae🇲🇾 Aaron Chia [2]🇲🇾 Soh Wooi Yik21-15\, 12-21\, 21-18Women’s Doubles🇨🇳 Liu Shengshu [1]🇨🇳 Tan Ning🇰🇷 Baek Ha-na [6]🇰🇷 Lee So-hee21-18\, 21-12Mixed Doubles🇨🇳 Feng Yanzhe [1]🇨🇳 Huang Dongping🇨🇳 Jiang Zhenbang [2]🇨🇳 Wei Yaxin21-19\, 21-19\n\n\n\nTournament Schedule\n\n\n\nAll times are local\, Malaysia Standard Time (UTC+8). \n\n\n\nDatesRoundDoors OpenStart TimeTuesday\, Jan 6Round of 32 (Top Half)8:00 AM9:00 AMWednesday\, Jan 7Round of 32 (Bottom Half)8:00 AM9:00 AMThursday\, Jan 8Round of 168:00 AM9:00 AMFriday\, Jan 9Quarter-Finals8:00 AM9:00 AM3:00 PMSaturday\, Jan 10Semi-Finals9:00 AM10:00 AMSunday\, Jan 11Finals11:00 AM12:00 PM\n\n\n\nTV Broadcast Schedule\n\n\n\nFor this event\, Courts 1 and 2 will be featured in the television broadcast. Typically\, television coverage for Court 1 spans from the earlier rounds through the finals\, while Court 2’s broadcast usually focuses on mid-week matches. We recommend checking with your local broadcasters for specific details in your region. For comprehensive viewing\, you can stream matches from all courts on the BWF TV YouTube channel from the tournament’s opening day. Here is the complete schedule: \n\n\n\nCourt 1\n\n\n\nDatesNo. of MatchesStart TimeTuesday\, Jan 6109:00 AMWednesday\, Jan 7109:00 AMThursday\, Jan 8109:00 AMFriday\, Jan 939:00 AM73:00 PMSaturday\, Jan 101011:00 AMSunday\, Jan 11512:00 PM\n\n\n\nCourt 2\n\n\n\nDatesNo. of MatchesStart TimeWednesday\, Jan 789:00 AMThursday\, Jan 889:00 AMFriday\, Jan 939:00 AM53:00 PM\n\n\n\nPrize Money Distribution\n\n\n\nThe total prize money for this year’s edition of the Malaysia Open is US$1\,450\,000. The prize breakdown is as follows: \n\n\n\nResultSinglesDoubles (per team)Winner$101\,500$107\,300Runner-up$49\,300$50\,750Semifinalist$20\,300$20\,300Quarterfinalist$7\,975$9\,062.50Round of 16$4\,350$4\,712.50Round of 32$1\,450$1\,450\n\n\n\nMalaysia Open Status on BWF World Tour\n\n\n\nYearStatusPrize Money2018Super 750US$700\,0002019Super 750US$700\,0002020Not held–2021Not held–2022Super 750US$675\,0002023Super 1000US$1\,250\,0002024Super 1000US$1\,300\,0002025Super 1000US$1\,450\,0002026Super 1000US$1\,450\,000\n\n\n\nTicketing Information\n\n\n\nTicket sales for the 2026 tournament have already begun! \n\n\n\n1. Sales Details\n\n\n\n\nOfficial Sales Start: 2:00 PM on November 3\, 2025.\n\n\n\nEarly Bird Promotion: A special discounted rate was available from the start of sales until November 30\, 2025.\n\n\n\nWhere to Buy: Tickets are sold online via the official ticketing platform\, which is typically www.ticket2u.com.my.\n\n\n\nAdvice: Based on previous years\, tickets for this popular event\, especially the later rounds (Semis and Finals) and certain categories\, sell out quickly. It is highly advised to purchase tickets early.\n\n\n\n\n2. Ticket Types and Estimated Prices\n\n\n\nTickets are available as Daily Tickets (for single-day attendance) or Season Passes (for the entire week). \n\n\n\nTicket TypePrice Range (MYR)NotesDaily TicketsFrom approximately RM32 to RM630 (price depends on the day and seating category)Early Bird discounts apply to these.Season PassesFrom approximately RM282 to RM2\,000 (depending on the category)Covers all 6 days of the tournament.\n\n\n\n(Note: Prices have been maintained at similar rates to the 2025 edition to keep the event accessible to fans.) \n\n\n\n3. Important Entry Conditions\n\n\n\n\nChildren: Children aged 4 and older require a full-price ticket for admission. Children aged 3 and younger are generally not permitted.\n\n\n\nStudents/Seniors: There are typically no discounted tickets for students or senior citizens; a full-price ticket is required.\n\n\n\nWristbands: Once issued at check-in\, the wristband must be kept secure for re-entry.\n\n\n\nResale: The resale of tickets is strictly prohibited.
URL:https://badmintonworldtour.com/event/2026-malaysia-open/
LOCATION:Axiata Arena\, L2-E-10\, Enterprise 4\, Technology Park Malaysia\, Lebuhraya Bukit Jalil\, Bukit Jalil\, Kuala Lumpur\, Wilayah Persekutuan Kuala Lumpur\, 57000\, Malaysia
CATEGORIES:BWF World Tour
ATTACH;FMTTYPE=image/jpeg:https://badmintonworldtour.com/wp-content/uploads/2025/04/Malaysia-Open-Badminton-1.jpg
ORGANIZER;CN="Badminton Association of Malaysia":MAILTO:events@bam.org.my
END:VEVENT
BEGIN:VEVENT
DTSTART;TZID=Asia/Kolkata:20260113T000000
DTEND;TZID=Asia/Kolkata:20260118T235959
DTSTAMP:20260419T210421
CREATED:20250430T132601Z
LAST-MODIFIED:20260113T132136Z
UID:553-1768262400-1768780799@badmintonworldtour.com
SUMMARY:2026 India Open
DESCRIPTION:Updated on April 13\, 2026\n\n\nThe badminton world has descended upon the Indian capital for the Yonex-Sunrise India Open 2026\, a prestigious HSBC BWF World Tour Super 750 event. Hosted at the iconic Indira Gandhi Sports Complex\, this week-long festival of sport (January 13–18\, 2026) promises high-octane action\, world-class production\, and a staggering total prize pool of US$950\,000. \n\n\n\nAs the Badminton Association of India (BAI) President\, Dr. Himanta Biswa Sarma\, noted in the official prospectus\, the sport has seen an “uprising” in the country. This tournament stands as the “prestigious feather in the cap” of that movement\, welcoming the global elite to battle for one of the season’s most coveted titles. \n\n\n\nBelow is the complete guide to the event\, including the match schedule\, broadcast details\, and the Hall of Champions\, which will be updated live as the finals conclude. \n\n\n\nHall of Champions\n\n\n\nThis section details the winners of the 2026 edition. The finals are scheduled for Sunday\, 18 January 2026\, starting at 11:00 AM. \n\n\n\nMen’s Singles\n\n\n\n\nChampion: [TBD – Awaiting Result]\n\nPrize Money: US$ 66\,500\n\n\n\n\n\nRunner-Up: [TBD – Awaiting Result]\n\nPrize Money: US$ 32\,300\n\n\n\n\n\nFinal Score:\n\n\n\n\nWomen’s Singles\n\n\n\n\nChampion: [TBD – Awaiting Result]\n\nPrize Money: US$ 66\,500\n\n\n\n\n\nRunner-Up: [TBD – Awaiting Result]\n\nPrize Money: US$ 32\,300\n\n\n\n\n\nFinal Score:\n\n\n\n\nMen’s Doubles\n\n\n\n\nChampions: [TBD – Awaiting Result]\n\nPrize Money: US$ 70\,300\n\n\n\n\n\nRunners-Up: [TBD – Awaiting Result]\n\nPrize Money: US$ 33\,250\n\n\n\n\n\nFinal Score:\n\n\n\n\nWomen’s Doubles\n\n\n\n\nChampions: [TBD – Awaiting Result]\n\nPrize Money: US$ 70\,300\n\n\n\n\n\nRunners-Up: [TBD – Awaiting Result]\n\nPrize Money: US$ 33\,250\n\n\n\n\n\nFinal Score:\n\n\n\n\nMixed Doubles\n\n\n\n\nChampions: [TBD – Awaiting Result]\n\nPrize Money: US$ 70\,300\n\n\n\n\n\nRunners-Up: [TBD – Awaiting Result]\n\nPrize Money: US$ 33\,250\n\n\n\n\n\nFinal Score:\n\n\n\n\nTournament Schedule\n\n\n\nThe six-day saga is structured to test endurance as much as skill. Matches are held in the Main Arena (Gymnastics Hall)\, with practice sessions conducted at the adjacent K.D. Jadhav Indoor Hall. \n\n\n\n\nDay 1: The Opening Salvo (Tuesday\, 13 January)\n\nAction: Round of 32 (Part 1)\n\n\n\nStart Time: 10:00 AM\n\n\n\nCourts: 4 Courts in play\n\n\n\nFocus: The tournament kicks off with the Top 32 pairs and shuttlers looking to survive the early jitters.\n\n\n\n\n\nDay 2: The Field Completes (Wednesday\, 14 January)\n\nAction: Round of 32 (Part 2)\n\n\n\nStart Time: 10:00 AM\n\n\n\nCourts: 4 Courts in play\n\n\n\nNote: This day specifically accommodates finalists from the preceding Malaysia Open\, allowing them recovery time before entering the fray in Delhi.\n\n\n\n\n\nDay 3: The Pre-Quarter Finals (Thursday\, 15 January)\n\nAction: Round of 16\n\n\n\nStart Time: 10:00 AM\n\n\n\nCourts: 4 Courts in play\n\n\n\nStakes: Winners here secure a piece of the substantial prize money\, while losers go home with just participation points.\n\n\n\n\n\nDay 4: Quarter Finals (Friday\, 16 January)\n\nAction: Top 8 Face-Off\n\n\n\nStart Time: 11:00 AM\n\n\n\nCourts: Reduced to 3 Courts\n\n\n\nIntensity: The business end of the tournament begins. Every match from this point is broadcast-quality drama.\n\n\n\n\n\nDay 5: Semi Finals (Saturday\, 17 January)\n\nAction: The Final Four\n\n\n\nStart Time: 11:00 AM\n\n\n\nCourts: 1 Main Show Court\n\n\n\nAtmosphere: All eyes focus on a single court as players fight for a guaranteed spot on the podium.\n\n\n\n\n\nDay 6: The Grand Finale (Sunday\, 18 January)\n\nAction: Championship Matches & Prize Ceremony\n\n\n\nStart Time: 11:00 AM\n\n\n\nCourts: 1 Main Show Court\n\n\n\n\n\n\nBroadcast & Media Coverage\n\n\n\nFans unable to make the trip to New Delhi can follow the action extensively via global broadcast partners. The coverage ramps up significantly as the tournament progresses: \n\n\n\n\nWed\, 14 Jan: Live coverage of 10 matches on Court 1.\n\n\n\nThu\, 15 Jan: Expanded coverage across two courts (8 matches on C1\, 10 matches on C2).\n\n\n\nFri\, 16 Jan (QF): Full coverage of the Quarter Finals across two courts.\n\n\n\nSat\, 17 Jan (SF): All 10 Semi-Final matches broadcast live.\n\n\n\nSun\, 18 Jan (Finals): Complete coverage of all 5 title matches.\n\n\n\n\nNote for spectators: Photography is strictly prohibited within the competition venue for non-accredited persons\, ensuring copyright protection and player focus. \n\n\n\nPrize Money & Points\n\n\n\nThe India Open is a lucrative stop on the tour. The total prize fund of US$ 950\,000 is distributed not just to the winners\, but deep into the draw\, ensuring financial sustainability for the touring athletes. \n\n\n\nSingles Payouts: \n\n\n\n\nChampion: $66\,500\n\n\n\nRunner-Up: $32\,300\n\n\n\nSemi-Finalist: $13\,300\n\n\n\nQuarter-Finalist: $5\,225\n\n\n\nRound of 16: $2\,850\n\n\n\nRound of 32: $950\n\n\n\n\nDoubles Payouts (Per Pair): \n\n\n\n\nChampions: $70\,300\n\n\n\nRunners-Up: $33\,250\n\n\n\nSemi-Finalists: $13\,300\n\n\n\nQuarter-Finalists: $6\,175\n\n\n\nRound of 16: $3\,087.50\n\n\n\nRound of 32: $950\n\n\n\n\n(Note: All prize money is subject to a 20.60% withholding tax as per Indian government regulations.) \n\n\n\nVenue & Logistics\n\n\n\nThe event operates under strict technical regulations to ensure a world-class environment. The Main Arena features professional green mats on wooden flooring\, and matches are played with Yonex Aerosenda 50 shuttles. To ensure fairness\, the Instant Review System (IRS) is operational on TV courts\, allowing players to challenge line calls during critical moments. \n\n\n\nPlayers are housed in luxury accommodations like the Hotel Le Meridien and Shangri-La Eros\, with dedicated transport shuttles ensuring seamless movement between the hotel and the stadium. \n\n\n\nAs the matches unfold and the brackets narrow\, this article will be updated to reflect the new kings and queens of the India Open 2026. Stay tuned to the Hall of Champions section above for the final verdict.
URL:https://badmintonworldtour.com/event/2026-india-open/
LOCATION:Indira Gandhi Arena\, Indraprastha Estate\, Grand Trunk Rd\, near Raj Ghat\, IG Indoor Stadium\, ITO\, IP Estate\, New Delhi\, Delhi\, 110002\, India
CATEGORIES:BWF World Tour
ATTACH;FMTTYPE=image/jpeg:https://badmintonworldtour.com/wp-content/uploads/2025/04/India-Open-Badminton.jpg
ORGANIZER;CN="Badminton Association of India":MAILTO:indias750@badmintonindia.org
END:VEVENT
BEGIN:VEVENT
DTSTART;TZID=Asia/Jakarta:20260120T000000
DTEND;TZID=Asia/Jakarta:20260125T235959
DTSTAMP:20260419T210421
CREATED:20251216T065830Z
LAST-MODIFIED:20260125T121422Z
UID:27230-1768867200-1769385599@badmintonworldtour.com
SUMMARY:2026 Indonesia Masters
DESCRIPTION:Updated on April 13\, 2026\n\n\nThe 2026 Indonesia Masters has officially concluded at the legendary Istora Senayan\, Jakarta\, delivering a thrilling week of world-class badminton and memorable championship moments. As a BWF World Tour Super 500 event\, the tournament once again proved to be one of the early-season highlights\, offering valuable ranking points and fierce competition across all five disciplines. \n\n\n\nRenowned among players and fans for its electrifying\, almost unmatched atmosphere\, Istora Senayan lived up to its reputation as one of the loudest and most intimidating venues on the tour. Across finals day\, top seeds\, rising stars\, and crowd favorites battled for glory\, with several matches ending decisively and others showcasing resilience under pressure. \n\n\n\nThe 2026 edition also marked a strong showing from Malaysia and China\, while Thailand and Indonesia celebrated notable finals appearances in front of a passionate home crowd. \n\n\n\nTable of Contents[Open][Close]Indonesia Masters 2026 Champions🏆 Women’s Singles🏆 Mixed Doubles🏆 Women’s Doubles🏆 Men’s Singles🏆 Men’s DoublesKey Tournament InformationStars to Watch in 2026Tournament ScheduleTV Broadcast SchedulePrize Money DistributionBrief History\n\n\n\nIndonesia Masters 2026 Champions\n\n\n\n🏆 Women’s Singles\n\n\n\nChen Yufei (China) [1]Defeated Pitchamon Opatniputh (Thailand)Score: 23–21\, 21–13Match Duration: 52 minutes \n\n\n\n\n\n\n\n🏆 Mixed Doubles\n\n\n\nChen Tang Jie / Toh Ee Wei (Malaysia) [3]Defeated Mathias Christiansen / Alexandra Bøje (Denmark)Score: 15–21\, 21–17\, 21–11Match Duration: 57 minutes \n\n\n\n\n\n\n\n🏆 Women’s Doubles\n\n\n\nPearly Tan / Thinaah Muralitharan (Malaysia) [1]Won by walkover against Arisa Igarashi / Miyu Takahashi (Japan) \n\n\n\n\n\n\n\n🏆 Men’s Singles\n\n\n\nAlwi Farhan (Indonesia) [8]Defeated Panitchaphon Teeraratsakul (Thailand) [PFQ]Score: 21–5\, 21–6Match Duration: 25 minutes \n\n\n\n\n\n\n\n🏆 Men’s Doubles\n\n\n\nGoh Sze Fei / Nur Izzuddin (Malaysia) [4]Defeated Raymond Indra / Nikolaus Joaquin (Indonesia)Score: 21–19\, 21–13Match Duration: 37 minutes \n\n\n\n\n\n\n\nWith the curtain now closed on the Indonesia Masters 2026\, attention turns to the next stops on the BWF World Tour. However\, the energy\, drama\, and unforgettable scenes from Istora Senayan will linger long in the memory—once again affirming Jakarta’s place as one of badminton’s most iconic stages. \n\n\n\nKey Tournament Information\n\n\n\n\nDate: 20 – 25 January 2026\n\n\n\nVenue: Istora Gelora Bung Karno (Istora Senayan)\, Jakarta\, Indonesia\n\n\n\nLevel: HSBC BWF World Tour Super 500\n\n\n\nTotal Prize Money: US$500\,000\n\n\n\nOrganizer: Badminton Association of Indonesia (PBSI)\n\n\n\n\nStars to Watch in 2026\n\n\n\nWith the withdrawal of Danish superstar Viktor Axelsen\, the field has opened up significantly\, particularly in the Men’s Singles. Based on the M&Q report and recent form\, here are the key contenders: \n\n\n\nMen’s Singles (MS) \n\n\n\n\nAnders Antonsen (Denmark): The top seed will look to capitalize on his compatriot’s absence. He has a strong history at Istora.\n\n\n\nKunlavut Vitidsarn (Thailand): The defending champion returns as the 2nd seed.\n\n\n\nJonatan Christie (Indonesia): The home crowd favorite and 2025 runner-up will be desperate to go one better this year.\n\n\n\n\nWomen’s Singles (WS) \n\n\n\n\nChen Yufei (China): The Chinese superstar headlines the draw as the top seed.\n\n\n\nPutri Kusuma Wardani (Indonesia): Seeded 3rd\, “Putri KW” is Indonesia’s leading hope in the women’s singles.\n\n\n\n\nDoubles Pairs \n\n\n\n\nMen’s Doubles: Malaysia’s Aaron Chia/Soh Wooi Yik will return as the Top Seeds. Last year\, they lost in the semifinals to their compatriots\, and this time they’ll be looking to go one step further. Indonesia’s Fajar Alfian\, who played alongside Muhammad Rian Ardianto last year\, now plays alongside Muhammad Shohibul Fikri. They were finalists last year\, and he and Fikri are now chasing the title at Istora.\n\n\n\nWomen’s Doubles: Malaysia’s Pearly Tan/Thinaah Muralitharan return as top seeds.\n\n\n\nMixed Doubles: China’s rising stars Jiang Zhenbang/Wei Yaxin enter as the pair to beat.\n\n\n\n\nTournament Schedule\n\n\n\nMatches typically start at 08:00 or 09:00 local time (WIB / GMT+7)\, pending final TV scheduling. \n\n\n\nDateRoundDetailsStart TimeTuesday\, Jan 20Qualification & R32Qualifying rounds and select Men’s/Women’s Doubles Round of 32.8:00 AMWednesday\, Jan 21Round of 32Continuation of Round of 32 (Singles & remaining Doubles).8:00 AMThursday\, Jan 22Round of 16All categories.9:00 AMFriday\, Jan 23QuarterfinalsThe top 8 in all categories battle for podium spots.1:30 PMSaturday\, Jan 24SemifinalsThe “Final Four” compete for a place in Sunday’s final.12:00 PMSunday\, Jan 25FinalsChampionship matches for all five disciplines.1:00 PM\n\n\n\n(Note: Schedule subject to change by BWF and local organizers.) \n\n\n\nTV Broadcast Schedule\n\n\n\nOnly one court (Court 1) will be televised\, starting with the Round of 16. The BWF TV YouTube channel will broadcast all matches on all courts from Tuesday to Sunday\, except for territories where broadcast rights are unsold. \n\n\n\nDateNo. of MatchesStart TimeThursday\, Jan 2289:00 AMFriday\, Jan 2381:30 PMSaturday\, Jan 24812:00 PMSunday\, Jan 2551:00 PM\n\n\n\nPrize Money Distribution\n\n\n\nThe total prize pool for 2026 is US$ 500\,000. \n\n\n\nResultSinglesDoubles (per pair)Winner$37\,500$39\,500Runner-up$19\,000$19\,000Semifinalist$7\,250$7\,000Quarterfinalist$3\,000$3\,625Last 16$1\,750$1\,875\n\n\n\nBrief History\n\n\n\nThe Indonesia Masters was first held in 2010 as the Indonesia Open Grand Prix Gold. It was originally created to provide a second tier of international competition in Indonesia\, complementing the premier Indonesia Open. \n\n\n\nThe tournament was upgraded to a Super 500 event in 2018 as part of the BWF World Tour restructuring. While it has been hosted in various cities including Samarinda\, Palembang\, Yogyakarta\, and Malang\, it found its spiritual home at the Istora Senayan in Jakarta in 2018. The venue is legendary for its steep seating and acoustic intensity\, where the “Eaa… Eaa…” chants of the Indonesian fans create an intimidating atmosphere for visitors and a massive boost for local players.
URL:https://badmintonworldtour.com/event/2026-indonesia-masters/
LOCATION:Istora Gelora Bung Karno\, Jl. Pintu Satu Senayan No.1\, RT.1/RW.3\, Gelora\, Kecamatan Tanah Abang\, Kota Jakarta Pusat\, Daerah Khusus Ibukota Jakarta\, 10270\, Indonesia
CATEGORIES:BWF World Tour
ATTACH;FMTTYPE=image/jpeg:https://badmintonworldtour.com/wp-content/uploads/2025/12/Indonesia-Masters.jpg
ORGANIZER;CN="Badminton Association of Indonesia":MAILTO:sekjen@pbsi.id
END:VEVENT
BEGIN:VEVENT
DTSTART;TZID=Asia/Bangkok:20260127T000000
DTEND;TZID=Asia/Bangkok:20260201T235959
DTSTAMP:20260419T210421
CREATED:20250629T014409Z
LAST-MODIFIED:20260125T122917Z
UID:25356-1769472000-1769990399@badmintonworldtour.com
SUMMARY:2026 Thailand Masters
DESCRIPTION:The HSBC BWF World Tour returns to Bangkok for the Princess Sirivannavari Thailand Masters 2026\, a Super 300 event that promises high-octane action. Set against the vibrant backdrop of Bangkok\, this tournament offers a crucial platform for rising stars and established players to claim early-season glory and valuable ranking points. \n\n\n\nTournament Essentials\n\n\n\n\nDates: January 27 – February 1\, 2026 \n\n\n\nVenue: Nimibutr Stadium\, Bangkok\, Thailand \n\n\n\nLevel: HSBC BWF World Tour Super 300 \n\n\n\nTotal Prize Money: US$250\,000 \n\n\n\n\nStars to Watch\n\n\n\nThe draws have revealed an exciting lineup across all five disciplines. Here are some of the key contenders vying for the title: \n\n\n\nMen’s Singles: Top seed Loh Kean Yew (SGP) leads the field\, looking to assert his dominance early in the year. He will face stiff competition from promising talents like Alwi Farhan (INA) and Justin Hoh (MAS)\, who are seeded second and sixth\, respectively. Keep an eye on home favorite Kantaphon Wangcharoen (THA)\, whose matches are sure to electrify the local crowd. \n\n\n\nWomen’s Singles: Thailand’s own Supanida Katethong enters as the top seed\, carrying the hopes of the host nation. She is joined by a strong international contingent\, including Sung Shuo-yun (TPE) and Japan’s Hina Akechi\, seeded 2nd and 3rd respectively. \n\n\n\nProvisional Schedule (UTC+7)\n\n\n\n\nTuesday\, Jan 27: Qualifying Rounds & First Round (MD/WD) – Starts 09:00 / 15:00 \n\n\n\nWednesday\, Jan 28: First Round (All Events) – Starts 09:00 \n\n\n\nThursday\, Jan 29: Second Round – Starts 12:00 \n\n\n\nFriday\, Jan 30: Quarter-Finals – Starts 13:00 \n\n\n\nSaturday\, Jan 31: Semi-Finals – Starts 12:00 \n\n\n\nSunday\, Feb 1: Finals – Starts 12:00 \n\n\n\n\nPrize Money Distribution\n\n\n\nThe total prize pool of US$250\,000 is distributed as follows: \n\n\n\n\nSingles (MS/WS):\n\nWinner: $18\,750 \n\n\n\nRunner-Up: $9\,500 \n\n\n\nSemi-Finalist: $3\,625 \n\n\n\nQuarter-Finalist: $1\,500\n\n\n\nRound of 16: $875\n\n\n\n\n\nDoubles (MD/WD/XD) – Per Pair:\n\nWinners: $19\,750 \n\n\n\nRunners-Up: $9\,500 \n\n\n\nSemi-Finalists: $3\,500\n\n\n\nQuarter-Finalists: $1\,812.50\n\n\n\nRound of 16: $937.50\n\n\n\n\n\n\n(Note: A 5% tax deduction applies to all prize money winnings under Thai regulations). \n\n\n\nTV Broadcast Schedule\n\n\n\nFans can catch the action live during the later stages of the tournament. The provisional broadcast schedule is: \n\n\n\n\nSaturday\, Jan 31 (Semi-Finals): 8 matches starting at 12:00 \n\n\n\nSunday\, Feb 1 (Finals): 5 matches starting at 12:00 \n\n\n\n\n\n\n\n\n2026 Champions\n\n\n\n(To be updated after the tournament concludes) \n\n\n\n\nMen’s Singles: TBD\n\n\n\nWomen’s Singles: TBD\n\n\n\nMen’s Doubles: TBD\n\n\n\nWomen’s Doubles: TBD\n\n\n\nMixed Doubles: TBD
URL:https://badmintonworldtour.com/event/2026-thailand-masters/
LOCATION:Nimibutr Stadium\, 154 ถนน พระรามที่ ๑1 Wang Mai\, Pathum Wan\, Bangkok\, 10330\, Thailand
CATEGORIES:BWF World Tour
ATTACH;FMTTYPE=image/jpeg:https://badmintonworldtour.com/wp-content/uploads/2025/06/Thailand-Masters-Badminton.jpg
ORGANIZER;CN="Badminton Association of Thailand":MAILTO:info@badmintonthai.or.th
END:VEVENT
END:VCALENDAR