BEGIN:VCALENDAR
VERSION:2.0
PRODID:-//Badminton World Tour - ECPv6.15.20//NONSGML v1.0//EN
CALSCALE:GREGORIAN
METHOD:PUBLISH
X-ORIGINAL-URL:https://badmintonworldtour.com
X-WR-CALDESC:Events for Badminton World Tour
REFRESH-INTERVAL;VALUE=DURATION:PT1H
X-Robots-Tag:noindex
X-PUBLISHED-TTL:PT1H
BEGIN:VTIMEZONE
TZID:Europe/Paris
BEGIN:DAYLIGHT
TZOFFSETFROM:+0100
TZOFFSETTO:+0200
TZNAME:CEST
DTSTART:20240331T010000
END:DAYLIGHT
BEGIN:STANDARD
TZOFFSETFROM:+0200
TZOFFSETTO:+0100
TZNAME:CET
DTSTART:20241027T010000
END:STANDARD
BEGIN:DAYLIGHT
TZOFFSETFROM:+0100
TZOFFSETTO:+0200
TZNAME:CEST
DTSTART:20250330T010000
END:DAYLIGHT
BEGIN:STANDARD
TZOFFSETFROM:+0200
TZOFFSETTO:+0100
TZNAME:CET
DTSTART:20251026T010000
END:STANDARD
BEGIN:DAYLIGHT
TZOFFSETFROM:+0100
TZOFFSETTO:+0200
TZNAME:CEST
DTSTART:20260329T010000
END:DAYLIGHT
BEGIN:STANDARD
TZOFFSETFROM:+0200
TZOFFSETTO:+0100
TZNAME:CET
DTSTART:20261025T010000
END:STANDARD
END:VTIMEZONE
BEGIN:VEVENT
DTSTART;VALUE=DATE:20251028
DTEND;VALUE=DATE:20251103
DTSTAMP:20260420T031420
CREATED:20250701T063857Z
LAST-MODIFIED:20251102T181515Z
UID:25505-1761609600-1762127999@badmintonworldtour.com
SUMMARY:2025 Hylo Open
DESCRIPTION:The 2025 Hylo Open (also known as the Hylo Badminton Open 2025 presented by Victor for sponsorship reasons) was a badminton tournament held at the Saarlandhalle in Saarbrücken\, Germany\, from 28 October to 2 November 2025. It was the 38th edition of the Hylo Open championships (formerly known as the BMW Badminton Cup\, BMW Open International\, Bitburger Masters\, Bitburger Open and SaarLorLux Open) and part of the BWF World Tour Super 500 tournaments on the 2025 BWF World Tour. This event featured a total prize fund of US$475\,000.1“2025 Hylo Open Prospectus”. Badminton World Federation. Retrieved on 21 October 2025. \nChampions\n\nMen’s Singles: 🇮🇩 Jonatan Christie [2] def. 🇩🇰 Magnus Johannesen [Q]\, 21-14\, 21-14\nWomen’s Singles: 🇩🇰 Mia Blichfeldt [2] def. 🇮🇩 Putri Kusuma Wardani [1]\, 21-11\, 7-21\, 21-12\nMen’s Doubles: 🇹🇼 Chiu Hsiang-chieh / Wang Chi-lin def. 🇮🇩 Sabar Karyaman Gutama / Muhammad Reza Pahlevi Isfahani [6]\, 21-19\, 21-18\nWomen’s Doubles: 🇫🇷 Margot Lambert / Camille Pognante [7] def. 🇹🇼 Hsu Yin-hui / Lin Jhih-yun [2]\, 21-16\, 21-10\nMixed Doubles: 🇩🇰 Mathias Christiansen / Alexandra Bøje [5] def. 🇫🇷 Thom Gicquel / Delphine Delrue [2]\, 23-21\, 21-15\n\nTournament Links\n\n\n\nBWF Tournament Profile\n\n\nPlayer List\nDraws\nLive Score\n\n\n\nTournament Schedule\nAll times are local\, Central European Time (UTC+1). \n\n\n\nDates\nRound\nDoors Open\nStart Time\n\n\nTuesday\, October 28 Match Schedule\nAll qualifying Rounds\n7:30 AM\n8:30 AM\n\n\nWD/MD Round of 32\nNot before 1:45 PM\n\n\nWednesday\, October 29 Match Schedule\nRound of 32\n8:00 AM\n9:00 AM\n\n\nThursday\, October 30 Match Schedule\nRound of 16\n9:00 AM\n10:00 AM\n\n\nFriday\, October 31 Match Schedule\nQuarter-Finals\n11:00 AM\n12:00 PM\n\n\nSaturday\, November 1 Match Schedule\nSemi-Finals\n1:00 PM\n2:00 PM\n\n\nSunday\, November 2 Match Schedule\nFinals\n1:00 PM\n2:00 PM\n\n\n\nTV Broadcast Schedule\nTelevised coverage for this event is limited to Court 1\, typically airing on the final four days of competition. For complete access to all matches from all courts\, the BWF TV YouTube channel offers live streaming from the tournament’s opening day. Here’s a detailed broadcast schedule: \n\n\n\nDates\nNo. of Matches\nStart Time\n\n\nThursday\, October 30\n8\n10:00 AM\n\n\nFriday\, October 31\n8\n12:00 PM\n\n\nSaturday\, November 1\n8\n2:00 PM\n\n\nSunday\, November 2\n5\n2:00 PM\n\n\n\nPrize Money\nThis year\, the Hylo Open offers a total prize money of US$475\,000\, more than double the previous edition’s US$210\,000. The Badminton World Federation (BWF) upgraded the Hylo Open from a Super 300 to a Super 500\, replacing the Canada Open\, which they moved from a Super 500 to a Super 300 for financial reasons. The prize breakdown is as follows: \n\n\n\nResult\nPrize Money (USD)\n\n\nSingles\nDoubles\n\n\nWinner\n$35\,625\n$37\,525\n\n\nRunner-up\n$18\,050\n$18\,050\n\n\nSemifinalist\n$6\,887.50\n$6\,650\n\n\nQuarterfinalist\n$2\,850\n$3\,443.75\n\n\nRound of 16\n$1\,662.50\n$1\,781.25\n\n\n\nHylo Open Status on BWF World Tour\n\n\n\nYear\nStatus\nPrize Money\n\n\n2018\nSuper 100 as SaarLorLux Open\nUS$75\,000\n\n\n2019\nSuper 100 as SaarLorLux Open\nUS$75\,000\n\n\n2020\nSuper 100 as SaarLorLux Open\nUS$90\,000\n\n\n2021\nSuper 500\nUS$320\,000\n\n\n2022\nSuper 300\nUS$180\,000\n\n\n2023\nSuper 300\nUS$210\,000\n\n\n2024\nSuper 300\nUS$210\,000\n\n\n2025\nSuper 500\nUS$475\,000\n\n\n2026\nSuper 500\nUS$500\,000\n\n\n\nReferences1“2025 Hylo Open Prospectus”. Badminton World Federation. Retrieved on 21 October 2025.
URL:https://badmintonworldtour.com/event/2025-hylo-open/
LOCATION:Saarlandhalle\, An d. Saarlandhalle 1\, Saarbrücken\, 66113\, Germany
CATEGORIES:BWF World Tour
ATTACH;FMTTYPE=image/jpeg:https://badmintonworldtour.com/wp-content/uploads/2025/07/Hylo-Badminton-Open.jpg
ORGANIZER;CN="HYLO Badminton Open":MAILTO:info@hylo-open.de
END:VEVENT
END:VCALENDAR