BEGIN:VCALENDAR
VERSION:2.0
PRODID:-//Badminton World Tour - ECPv6.15.20//NONSGML v1.0//EN
CALSCALE:GREGORIAN
METHOD:PUBLISH
X-WR-CALNAME:Badminton World Tour
X-ORIGINAL-URL:https://badmintonworldtour.com
X-WR-CALDESC:Events for Badminton World Tour
REFRESH-INTERVAL;VALUE=DURATION:PT1H
X-Robots-Tag:noindex
X-PUBLISHED-TTL:PT1H
BEGIN:VTIMEZONE
TZID:Asia/Bangkok
BEGIN:STANDARD
TZOFFSETFROM:+0700
TZOFFSETTO:+0700
TZNAME:+07
DTSTART:20250101T000000
END:STANDARD
END:VTIMEZONE
BEGIN:VEVENT
DTSTART;TZID=Asia/Bangkok:20260512T000000
DTEND;TZID=Asia/Bangkok:20260517T235959
DTSTAMP:20260422T031058
CREATED:20260331T034038Z
LAST-MODIFIED:20260331T034041Z
UID:27794-1778544000-1779062399@badmintonworldtour.com
SUMMARY:2026 Thailand Open
DESCRIPTION:The 2026 Thailand Open returns to the heart of Bangkok this May\, promising a week of high-octane badminton action at the historic Nimibutr Stadium. As a key fixture on the BWF World Tour\, this Super 500 event serves as a critical battleground for world-ranking points and a total prize purse of USD 500\,000. \n\n\n\nWith the local “Thai Power” movement at an all-time high\, the 2026 edition is set to be a celebration of both international excellence and national pride. \n\n\n\n\n\n\n\nTournament Essentials: Dates and Venue\n\n\n\nThe tournament is scheduled to take place from May 12 to May 17\, 2026. \n\n\n\nThe venue\, Nimibutr Stadium\, is located within the National Stadium complex at 154 Rama I Rd.\, Patumwan. Known for its intimate atmosphere and steep seating that puts fans right on top of the action\, the stadium has long been a fortress for Thai athletes. Its central location in Bangkok ensures easy access for the thousands of fans expected to descend on the capital. \n\n\n\nTournament Specifications\n\n\n\n\nScoring System: Best of three games to 21 points\, as per standard Laws of Badminton.\n\n\n\nTechnology: The Instant Review System (IRS) will be available on televised courts to ensure officiating precision.\n\n\n\nSanctioning Body: Badminton Association of Thailand (BAT) under the BWF.\n\n\n\n\n\n\n\n\nThe Road to the Podium: Tournament Schedule\n\n\n\nThe 2026 Thailand Open features a packed six-day schedule. The early days will see a mix of grueling qualification rounds and the first stage of the main draw\, while the weekend will focus on the elite survivors. \n\n\n\nDateEvent RoundCourtsDoors OpenStart TimeTuesday\, 12 MayQualifications (All) / R32 (MD & WD)408:0009:00 / 17:00Wednesday\, 13 MayRound of 32 (All Events)408:0009:00Thursday\, 14 MayRound of 16411:0012:00Friday\, 15 MayQuarterfinals311:0012:00Saturday\, 16 MaySemifinals211:0012:00Sunday\, 17 MayFinals111:0012:00\n\n\n\nNote: International TV broadcasts begin on Thursday\, May 14\, at 12:00 local time. \n\n\n\nDaily Match Schedule and Results\n\n\n\n\n\n\n\nPrize Money Distribution\n\n\n\nThe USD 500\,000 prize fund will be distributed across all five categories. In accordance with Thailand Revenue regulations\, a 5% income tax may be deducted from the winnings. \n\n\n\nSingles (Men’s and Women’s)\n\n\n\nFinishPrize Money (USD)Winner$37\,500Runner-up$19\,000Semifinalist$7\,250Quarterfinalist$3\,000Round of 16$1\,750\n\n\n\nDoubles (Men’s\, Women’s\, and Mixed)\n\n\n\nAmounts are per pair. \n\n\n\nFinishPrize Money (USD)Winner$39\,500Runner-up$19\,000Semifinalist$7\,000Quarterfinalist$3\,625Round of 16$1\,875\n\n\n\n\n\n\n\nDraw Size and Competition Structure\n\n\n\nThe 2026 event maintains a standard Super 500 draw size\, ensuring that only the most consistent players on the tour make it to the main stage. \n\n\n\n\nSingles (MS/WS): 28 Direct Entries + 4 Qualifiers (16-player Qualification Draw).\n\n\n\nDoubles (MD/WD/XD): 28 Direct Entries + 4 Qualifiers (8-pair Qualification Draw).\n\n\n\n\nDraws\n\n\n\n\n\n\n\nStars to Watch\n\n\n\nThe 2026 Thailand Open is particularly significant for the host nation\, as several Thai players have reached the peak of the world rankings leading into this season. \n\n\n\n1. Kunlavut Vitidsarn (Men’s Singles)\n\n\n\nThe reigning pride of Thailand\, Kunlavut enters the 2026 season as a dominant force in Men’s Singles. Known for his “unplayable” defense and tactical brilliance\, he will be the heavy favorite to keep the trophy in Bangkok. His ability to navigate long rallies makes him a nightmare opponent in the humid conditions of the Nimibutr Stadium. \n\n\n\n2. Ratchanok Intanon (Women’s Singles)\n\n\n\nA legend of the sport\, Intanon remains a major contender. Despite battling various injury setbacks in early 2026\, her technical grace and “May-style” deception continue to draw massive crowds. Fans will be eager to see if she can claim another home title against a surging field of international youngsters. \n\n\n\n3. Dechapol Puavaranukroh & Supissara Paewsampran (Mixed Doubles)\n\n\n\nFollowing a reshuffling in the Mixed Doubles circuit\, this high-energy pair has become Thailand’s primary hope in the category. Currently ranked within the world’s top 5\, their speed and chemistry will be tested against the formidable Chinese and South Korean pairs. \n\n\n\n4. International Challengers\n\n\n\nTBD. \n\n\n\n\n\n\n\nThe Fan Experience\n\n\n\nFor those attending in person\, the 2026 Thailand Open offers more than just badminton. The “Fan Zone” outside Nimibutr Stadium will feature interactive sponsor booths\, official BWF merchandise\, and local Thai street food stalls. With the Instant Review System providing dramatic “Hawk-Eye” moments on the big screens\, the atmosphere is expected to be electric from the first serve on Tuesday morning to the final championship point on Sunday afternoon. \n\n\n\nWhether you are a die-hard badminton enthusiast or a casual sports fan\, the 2026 Thailand Open is an unmissable showcase of speed\, agility\, and elite athleticism.
URL:https://badmintonworldtour.com/event/2026-thailand-open/
LOCATION:Nimibutr Stadium\, 154 ถนน พระรามที่ ๑1 Wang Mai\, Pathum Wan\, Bangkok\, 10330\, Thailand
CATEGORIES:BWF World Tour
ATTACH;FMTTYPE=image/jpeg:https://badmintonworldtour.com/wp-content/uploads/2026/03/Thailand-Open.jpg
ORGANIZER;CN="Badminton Association of Thailand":MAILTO:info@badmintonthai.or.th
END:VEVENT
END:VCALENDAR