BEGIN:VCALENDAR
VERSION:2.0
PRODID:-//Badminton World Tour - ECPv6.15.20//NONSGML v1.0//EN
CALSCALE:GREGORIAN
METHOD:PUBLISH
X-WR-CALNAME:Badminton World Tour
X-ORIGINAL-URL:https://badmintonworldtour.com
X-WR-CALDESC:Events for Badminton World Tour
REFRESH-INTERVAL;VALUE=DURATION:PT1H
X-Robots-Tag:noindex
X-PUBLISHED-TTL:PT1H
BEGIN:VTIMEZONE
TZID:Asia/Krasnoyarsk
BEGIN:STANDARD
TZOFFSETFROM:+0700
TZOFFSETTO:+0700
TZNAME:+07
DTSTART:20240101T000000
END:STANDARD
END:VTIMEZONE
BEGIN:VEVENT
DTSTART;VALUE=DATE:20251002
DTEND;VALUE=DATE:20251006
DTSTAMP:20260420T150909
CREATED:20250914T154426Z
LAST-MODIFIED:20251005T130705Z
UID:26358-1759363200-1759708799@badmintonworldtour.com
SUMMARY:2025 BDMNTN-XL Jakarta
DESCRIPTION:The 2025 BDMNTN-XL (BXL) Jakarta was a unique and innovative team-based badminton tournament that took place from October 2 to 5\, 2025\, at the Istora Senayan in Jakarta\, Indonesia. This event\, which debuted in 2024\, was not a part of the traditional BWF World Tour\, but instead featured a new format with high-stakes team battles. \nThe tournament brought together 32 elite players\, expanded from 28 in the previous year\, who were divided into four teams: the Blitzers\, Hurricanes\, Lightning\, and Rockets. Each team consisted of eight players\, four men and four women. The match format was designed for fast-paced\, high-intensity action\, featuring two singles matches and two mixed 3×3 matches per team tie. Each game lasted for eight minutes\, with new features like the “Ultimate Shuttle Showdown” and “Pressure Point” adding to the unpredictability and excitement. \nThe BDMNTN-XL Jakarta offered a lucrative total prize pool of US$750\,000 (MYR 3\,153\,750)\, with the winning team receiving a substantial US$350\,000 to be shared among its players. The event also featured two-time Olympic gold medalist Viktor Axelsen as its Global Ambassador\, highlighting its growing profile in the badminton world. The event was streamed live on SPOTV and tickets were available to the public\, showcasing its appeal as a sports entertainment spectacle. \nAfter an exhilarating final\, the Hurricanes emerged victorious\, defeating the Rockets with a dominant 7-1 final score. The Hurricanes sealed their win with strong performances across the board\, highlighted by their key players. \n\nTournament Details\n\n\n\nDate\n2–5 October 2025\n\n\nEdition\n2nd\n\n\nDraw\n4 teams\n\n\nPrize Money\nUS$750\,000\n\n\nLocation\nJakarta\, Indonesia\n\n\nVenue\nIstora Senayan\n\n\n\nTournament Links\n\n\n\nOfficial Instagram Account\nBuy Tickets\n\n\n\nHow the Games Work\nThe 2025 BDMNTN-XL Jakarata is set to revolutionize the way fans experience badminton. Unlike traditional tournaments\, this innovative format emphasizes speed\, intensity\, and a fresh take on team-based competition. With its unique scoring system\, time-based games\, and thrilling tie-break mechanisms\, the event is designed to maximize excitement for both players and spectators. Here’s a breakdown of how the competition works. \nBasic Terminology\nTo understand the format\, several key terms must be introduced: \n\nTie: This refers to when two teams face each other.\nMatch: Each tie consists of four matches\, including 3×3 (team triples)\, Men’s Singles (MS)\, Women’s Singles (WS)\, and another 3×3.\nGame: Every match is divided into four games\, each lasting eight minutes.\nScoring System: There is no minimum or maximum point requirement in a game. Instead\, time dictates play\, with each game lasting strictly eight minutes.\n\nThis time-based format ensures that matches are compact\, intense\, and engaging from start to finish. \nNew Scoring Innovations\nThe 2025 edition introduces several changes to the scoring structure. \n\nA 3×3 match is valued at 3 points\, while Singles matches are worth 1 point each.\nThis adjustment increases the importance of team-based play and creates more tactical diversity.\nSubstitutions in 3×3 matches are also permitted\, with game time reduced from 10 minutes to 8 minutes\, making the pace faster and more demanding.\n\nPressure Point Rule\nOne of the most thrilling elements is the Pressure Point rule\, which activates when the score difference is three points or fewer at the end of the eight minutes. \n\nIn this situation\, the leading team must secure one additional point to officially win.\nMeanwhile\, the trailing team is given a chance to make a dramatic comeback by scoring consecutive points.\nFor example\, if the score is 9-6 at the end of regulation\, the leading side needs just one more point to clinch the game\, while the trailing side must mount a four-point rally to snatch victory.\n\nThis rule keeps fans on the edge of their seats\, as no game is truly over until the last point is decided. \nShuttle Showdown\nAnother exciting addition is the Shuttle Showdown\, which comes into play when a match ends 2-2 in games. \n\nIn this showdown\, the first team to reach 3 points wins.\nVictory can be achieved with a score of 3-1 or 3-2\, or if a team leads by two clear points (such as 2-0).\nThis format creates a mini-sudden-death style ending\, ensuring every tied match concludes in dramatic fashion.\n\nUltimate Shuttle Showdown\nIf an entire tie between two teams ends 4-4\, the Ultimate Shuttle Showdown is triggered. \n\nBefore the tie begins\, captains decide whether Men’s Singles or Women’s Singles will serve as the tiebreaker discipline.\nThe first player to reach 5 points secures victory for their team.\nPossible scorelines include 5-4\, 5-3\, 5-2\, 5-1\, or even 5-0.\n\nThis final layer ensures that every tie ends with high-stakes action\, highlighting the pressure and skill of star players. \nTeam Structure and Competition Format\nThe 2025 BDMNTN-XL features: \n\n4 Teams\, each with 8 players.\nA tie format that includes six matches: 3×3\, Women’s Singles\, Men’s Singles\, and another 3×3.\nThe first team to accumulate 5 points across the tie is declared the winner.\nThe top two teams in the group stage advance to the Final\, where the ultimate champion is crowned.\n\nNew Features in 2025\nSeveral other innovations make this edition particularly exciting: \n\nExpanded Player Pool: Increasing from 28 to 32 participants.\nShorter\, More Intense Games: Cutting the time from 10 minutes to 8 minutes.\nIntroduction of Team Captains: Adding leadership and strategic decision-making roles.\nRemoval of Doubles Matches: Replacing them with more 3×3 contests\, further emphasizing team coordination and creativity.\n\nTeams and Players\n\n\n\nBLITZERS\nHURRICANES\n\n\nCaptain: Hendra Setiawan\nCaptain: Flandy Limpele\n\n\n1. Apriyani Rahayu (Indonesia)\n1. Anthony Sinisuka Ginting (Indonesia)\n\n\n2. Chirag Shetty (India)\n2. Gloria Emanuelle Widjaja (Indonesia)\n\n\n3. Jonatan Christie (Indonesia)\n3. Goh Sze Fei (Malaysia)\n\n\n4. Lai Pei Jing (Malaysia)\n4. Kirsty Gilmour (Scotland)\n\n\n5. Michelle Li (Canada)\n5. Mathias Christiansen (Denmark)\n\n\n6. Misaki Matsutomo (Japan)\n6. Muhammad Reza Pahlevi Isfahani (Indonesia)\n\n\n7. Ong Yew Sin (Malaysia)\n7. Siti Fadia Silva Ramadhanti (Indonesia)\n\n\n8. Sabar Karyaman Gutama (Indonesia)\n8. Treesa Jolly (India)\n\n\n\n\n\n\nLIGHTNING\nROCKETS\n\n\nCaptain: Greysia Polii\nCaptain: Vita Marissa\n\n\n1. Fajar Alfian (Indonesia)\n1. Alexandra Bøje (Denmark)\n\n\n2. Nur Izzuddin Rumsani (Malaysia)\n2. Kodai Naraoka (Japan)\n\n\n3. Nguyễn Thùy Linh (Vietnam)\n3. Lee Cheuk Yiu (Kong Kong)\n\n\n4. Rutaparna Panda (India)\n4. Melati Daeva Oktavianti (Indonesia)\n\n\n5. Shevon Jamie Lai (Malaysia)\n5. Mia Blichfeldt (Denmark)\n\n\n6. Rutaparna Panda (India)\n6. Muhammad Rian Ardianto (Indonesia)\n\n\n7. Tse Ying Suet (Hong Kong)\n7. Swetaparna Panda (India)\n\n\n8. Viktor Axelsen (Denmark)\n8. Teo Ee Yi (Malaysia)\n\n\n\nBroadcasters\nSee: How To Watch \n\nSPOTV\n\nSchedule | Order of Play | Results\nDay 1 | Thursday\, 2 October 2025\n\n\n\nSession I | 2:30 PM (UTC+7) | Group Stage\n\n\nMatch\nRockets\nHurricanes\nScore\n\n\nTeam/Players\nTeam/Players\n\n\n3×3\nMelati Daeva Oktavianti + Muhammad Rian Ardianto + Teo Ee Yi\nGloria Emanuelle Widjaja + Mathias Christiansen + Muhammad Reza Pahlevi Isfahani\n3-1\n\n\n14-10\, 13-9\, 15-8\, 14-18\n\n\n\nWomen’s Singles\nMia Blichfeldt\nKirsty Gilmour\n3-2\n\n\n12-10\, 10-11\, 12-11\, 11-12\, 2-0\n\n\n\nMen’s Singles\nKodai Naraoka\nAnthony Sinisuka Ginting\n3-1\n\n\n9-10\, 13-8\, 10-6\, 10-6\n\n\n\n3×3\nAlexandra Bøje + Melati Daeva Oktavianti + Teo Ee Yi\nGoh Sze Fei + Siti Fadia Silva Ramadhanti + Treesa Jolly\n1-3\n\n\n14-18\, 15-16\, 20-17\, 14-19\n\n\nWin/Lose\nWin\nLose\n5-3\n\n\n\n\n\n\n\nSession II | 7:00 PM (UTC+7) | Group Stage\n\n\nMatch\nLightning\nBlitzers\nScore\n\n\nTeam/Players\nTeam/Players\n\n\n3×3\nFajar Alfian + Nur Izzuddin Rumsani + Shevon Jamie Lai\nLai Pei Jing + Ong Yew Sin + Sabar Karyaman Gutama\n3-2\n\n\n 14-10\, 9-15\, 15-11\, 12-13\, 2-0\n\n\nWomen’s Singles\nNguyễn Thùy Linh\nMichelle Li\n0-4\n\n\n9-14\, 10-16\, 9-12\, 9-14\n\n\nMen’s Singles\nViktor Axelsen\nJonatan Christie\n3-2\n\n\n 7-15\, 11-10\, 8-16\, 14-7\, 3-2\n\n\n3×3\nFajar Alfian + Shevon Jamie Lai + Tse Ying Suet\nApriyani Rahayu + Chirag Shetty + Misaki Matsutomo\n1-3\n\n\n12-16\, 11-12\, 9-16\, 17-12\n\n\nUltimate Shuttle Showdown\nViktor Axelsen\nJonatan Christie\n0-1\n\n\n4-5\n\n\nWin/Lose\nLose\nWin\n4-5\n\n\n\n\nDay 2 | Friday\, 3 October 2025\n\n\n\nSession I | 2:30 PM (UTC+7) | Group Stage\n\n\nMatch\nHurricanes\nLightning\nScore\n\n\nTeam/Players\nTeam/Players\n\n\n3×3\nMathias Christiansen + Muhammad Reza Pahlevi Isfahani + Siti Fadia Silva Ramadhanti\nFajar Alfian + Nur Izzuddin Rumsani + Shevon Jamie Lai\n3-1\n\n\n14-15\, 14-10\, 15-11\, 13-12\n\n\nWomen’s Singles\nKirsty Gilmour\nNguyễn Thùy Linh\n1-3\n\n\n8-15\, 15-8\, 11-14\, 10-13\n\n\nMen’s Singles\nAnthony Sinisuka Ginting\nViktor Axelsen\n1-3\n\n\n 6-13\, 9-10\, 9-11\, 15-4\n\n\n3×3\nGoh Sze Fei + Gloria Emanuelle Widjaja + Treesa Jolly\nFajar Alfian + Shevon Jamie Lai + Tse Ying Suet\n4-0\n\n\n16-15\, 15-13\, 15-14\, 21-11\n\n\nWin/Lose\nWin\nLose\n6-2\n\n\n\n\n\n\nSession II | 7:00 PM (UTC+7) | Group Stage\n\n\nMatch\nBlitzers\nRockets\nScore\n\n\nTeam/Players\nTeam/Players\n\n\n3×3\nLai Pei Jing + Ong Yew Sin + Sabar Karyaman Gutama\nMelati Daeva Oktavianti + Muhammad Rian Ardianto + Teo Ee Yi\n3-2\n\n\n11-12\, 10-9\, 13-9\, 6-13\, 2-0\n\n\nWomen’s Singles\nMichelle Li\nMia Blichfeldt\n1-3\n\n\n12-9\, 11-13\, 5-16\, 7-11\n\n\nMen’s Singles\nJonatan Christie\nKodai Naraoka\n1-3\n\n\n11-12\, 8-10\, 9-8\, 5-8\n\n\n3×3\nApriyani Rahayu + Chirag Shetty + Misaki Matsutomo\nAlexandra Bøje + Melati Daeva Oktavianti + Teo Ee Yi\n3-1\n\n\n11-15\, 12-8\, 16-8\, 14-9\n\n\nWin/Lose\nWin\nLose\n6-2\n\n\n\nDay 3 | Saturday\, 4 October 2025\n\n\n\nSession I | 2:30 PM (UTC+7) | Group Stage\n\n\nMatch\nLightning\nRockets\nScore\n\n\nTeam/Players\nTeam/Players\n\n\n3×3\nFajar Alfian + Tse Ying Suet + Yuta Watanabe\nMelati Daeva Oktavianti + Muhammad Rian Ardianto + Teo Ee Yi\n4-0\n\n\n14-12\, 17-11\, 15-11\, 15-9\n\n\nWomen’s Singles\nNguyễn Thùy Linh\nMia Blichfeldt\n0-4\n\n\n7-12\, 8-12\, 7-12\, 10-11\n\n\nMen’s Singles\nViktor Axelsen\nKodai Naraoka\n1-3\n\n\n10-11\, 9-11\, 4-13\, 12-8\n\n\n3×3\nShevon Jamie Lai + Tse Ying Suet + Yuta Watanabe\nAlexandra Bøje + Melati Daeva Oktavianti + Teo Ee Yi\n0-4\n\n\n14-15\, 11-18\, 11-17\, 16-17\n\n\nWin/Lose\nLose\nWin\n3-5\n\n\n\n\n\n\nSession II | 7:00 PM (UTC+7) | Group Stage\n\n\nMatch\nBlitzers\nHurricanes\nScore\n\n\nTeam/Players\nTeam/Players\n\n\n3×3\nLai Pei Jing + Ong Yew Sin + Sabar Karyaman Gutama\nMathias Christiansen + Muhammad Reza Pahlevi Isfahani + Siti Fadia Silva Ramadhanti\n1-3\n\n\n13-14\, 9-12\, 15-11\, 9-15\n\n\nWomen’s Singles\nMichelle Li\nKirsty Gilmour\n3-1\n\n\n15-10\, 8-12\, 13-9\, 17-8\n\n\nMen’s Singles\nJonatan Christie\nAnthony Sinisuka Ginting\n1-3\n\n\n9-10\, 7-12\, 7-10\, 11-7\n\n\n3×3\nApriyani Rahayu + Chirag Shetty + Misaki Matsutomo\nGoh Sze Fei + Gloria Emanuelle Widjaja + Treesa Jolly\n1-3\n\n\n14-13\, 11-15\, 8-12\, 8-17\n\n\nWin/Lose\nLose\nWin\n1-7\n\n\n\nDay 4\, Sunday\, 5 October 2025\n\n\n\nFinal | 4:00 PM (UTC+7)\n\n\nMatch\n🥇Hurricanes\nRockets\nScore\n\n\nTeam/Players\nTeam/Players\n\n\n3×3\nMathias Christiansen + Muhammad Reza Pahlevi Isfahani + Siti Fadia Silva Ramadhanti\nMelati Daeva Oktavianti + Muhammad Rian Ardianto + Teo Ee Yi\n4-0\n\n\n15-13\, 14-12\, 13-10\, 21-14\n\n\nWomen’s Singles\nKirsty Gilmour\nMia Blichfeldt\n2-3\n\n\n7-12\, 7-12\, 12-11\, 15-9\, 0-2\n\n\nMen’s Singles\nAnthony Sinisuka Ginting\nKodai Naraoka\n3-1\n\n\n6-10\, 12-8\, 9-8\, 9-5\n\n\n3×3\nGoh Sze Fei + Gloria Emanuelle Widjaja + Treesa Jolly\nAlexandra Bøje + Melati Daeva Oktavianti + Teo Ee Yi\n3-0\n\n\n14-12\, 16-15\, 15-7\n\n\nWin/Lose\nWin\nLose\n7-1
URL:https://badmintonworldtour.com/event/2025-bdmntn-xl-jakarta/
LOCATION:Istora Gelora Bung Karno\, Jl. Pintu Satu Senayan No.1\, RT.1/RW.3\, Gelora\, Kecamatan Tanah Abang\, Kota Jakarta Pusat\, Daerah Khusus Ibukota Jakarta\, 10270\, Indonesia
CATEGORIES:Invitational Tournament
ATTACH;FMTTYPE=image/jpeg:https://badmintonworldtour.com/wp-content/uploads/2025/09/BDMNTN-XL-Badminton.jpg
END:VEVENT
END:VCALENDAR