BEGIN:VCALENDAR
VERSION:2.0
PRODID:-//Badminton World Tour - ECPv6.15.20//NONSGML v1.0//EN
CALSCALE:GREGORIAN
METHOD:PUBLISH
X-WR-CALNAME:Badminton World Tour
X-ORIGINAL-URL:https://badmintonworldtour.com
X-WR-CALDESC:Events for Badminton World Tour
REFRESH-INTERVAL;VALUE=DURATION:PT1H
X-Robots-Tag:noindex
X-PUBLISHED-TTL:PT1H
BEGIN:VTIMEZONE
TZID:Asia/Shanghai
BEGIN:STANDARD
TZOFFSETFROM:+0800
TZOFFSETTO:+0800
TZNAME:CST
DTSTART:20240101T000000
END:STANDARD
END:VTIMEZONE
BEGIN:VEVENT
DTSTART;TZID=Asia/Shanghai:20251226T000000
DTEND;TZID=Asia/Shanghai:20251228T235959
DTSTAMP:20260420T133558
CREATED:20251205T003029Z
LAST-MODIFIED:20251228T123645Z
UID:27095-1766707200-1766966399@badmintonworldtour.com
SUMMARY:2025 King Cup
DESCRIPTION:Updated on December 28\, 2025\n\n\nThe 2025 Shenzhen Metro Tod King Cup International Badminton Open (Chinese: 2025深圳地铁TOD王杯国际羽毛球公开赛) was a professional exhibition badminton tournament held in Shenzhen\, China\, from December 26 to December 28\, 2025. It was the second edition of the King Cup\, an event founded by Chinese badminton legend Lin Dan to promote men’s singles badminton. The tournament featured eight invited men’s singles players competing for a total prize pool of CN¥3 million. \n\n\n\nThe 2025 King’s Cup witnessed a historic and emotional return\, as Kento Momota stepped back onto the international stage following his 2024 retirement. In a poetic twist of fate\, his comeback match pitted him against the ultimate challenge: World No.1 and reigning world champion\, Shi Yuqi. While Momota ultimately fell in straight games (21-19\, 21-15)\, he delivered a performance that reminded the world of his legendary skill\, turning the match into a high-quality\, era-spanning spectacle. \n\n\n\nThe defending champion\, Anders Antonsen\, returned this year and reached the final\, only to be defeated by world No.1 and home favorite Shi Yuqi in straight games (22-20\, 21-7). In the third-place playoff\, Alex Lanier secured the victory over Jonatan Christie (21-17\, 21-19). \n\n\n\nTable of Contents[Open][Close]VenueCompetition Details1. Rules & Regulations2. Match & Scoring Format3. Tournament Format4. Draw ProcedureParticipants1. Anders Antonsen (Denmark)2. Jonatan “Jojo” Christie (Indonesia)3. Alex Lanier (France)4. Jason Teh (Singapore)5. Victor Lai (Canada)6. Shi Yuqi (China)7. Kento Momota (Japan)8. Liu Yangmingyu (China)DrawPrize MoneyTournament ScheduleWhere To Watch Live\n\n\n\nVenue\n\n\n\nThe tournament was held at the Shenzhen Bay Sports Center in the Nanshan District of Shenzhen\, China. Known as the “Spring Cocoon” for its distinctive architectural design\, the venue is a major multi-purpose indoor arena capable of hosting large-scale international sporting events. \n\n\n\nCompetition Details\n\n\n\n1. Rules & Regulations\n\n\n\nThis competition will be governed by the latest official Rules and Regulations of the Badminton World Federation (BWF). \n\n\n\n2. Match & Scoring Format\n\n\n\nAll matches will be played as the best of three games. \n\n\n\n\nA game is won by the first side to score 21 points.\n\n\n\nIf the score reaches 20–all\, the side that first achieves a 2‑point lead wins the game.\n\n\n\nIf the score reaches 29–all\, the side scoring the 30th point wins the game.\n\n\n\n\n3. Tournament Format\n\n\n\nThe competition will follow a knockout (single elimination) format. \n\n\n\n4. Draw Procedure\n\n\n\nThe draw will consist of 8 positions with 4 seeded players. Seeding will be determined by the BWF World Ranking as of Tuesday\, 16 December 2025. \n\n\n\n\nThe top 4 ranked players will be seeded 1 through 4.\n\n\n\nSeed 1 will be placed at Position 1.\n\n\n\nSeed 2 will be placed at Position 8.\n\n\n\nSeeds 3 and 4 will be randomly drawn to Position 3 or 6.\n\n\n\nThe non‑seeded players will be randomly drawn into the remaining positions.\n\n\n\nPlayers from the same Member Association will be drawn by lot into opposite halves of the draw.\n\n\n\n\nParticipants\n\n\n\nThe event features an invitational field of eight elite men’s singles players. \n\n\n\nConfirmed Players: \n\n\n\n\nAnders Antonsen (Denmark) – Defending Champion\n\n\n\nJonatan Christie (Indonesia)\n\n\n\nAlex Lanier (France)\n\n\n\nJason Teh (Singapore)\n\n\n\nVictor Lai (Canada)\n\n\n\nShi Yuqi (China)\n\n\n\nKento Momota (Japan)\n\n\n\nLiu Yangmingyu (China)\n\n\n\n\n1. Anders Antonsen (Denmark)\n\n\n\n\nStatus: Defending Champion & The Tactician\n\n\n\n2025 Season Highlights:\n\nWinner: French Open (Super 750)\, Indonesia Open (Super 1000).\n\n\n\nRunner-up: Thailand Open.\n\n\n\nWorld Ranking: Consistent Top 5 presence throughout the year.\n\n\n\n\n\nPlayer Narrative: Antonsen returns to Shenzhen as the man to beat. His 2025 season has been defined by tactical maturity; he has successfully evolved his game from purely defensive rallying to controlling the front court. As the inaugural King Cup winner\, he has the psychological edge of knowing exactly what it takes to win in this unique format.\n\n\n\n\n2. Jonatan “Jojo” Christie (Indonesia)\n\n\n\n\nStatus: The In-Form Challenger\n\n\n\n2025 Season Highlights:\n\nWinner: Korea Open (Super 500)\, Denmark Open (Super 750)\, Hylo Open (Super 500).\n\n\n\nKey Victory: Defeated Antonsen in the Korea Open final\, sparking their late-season rivalry.\n\n\n\n\n\nPlayer Narrative: Christie is arguably the most dangerous player in the second half of 2025. His physical conditioning is at its peak\, allowing him to grind down opponents in long rallies before unleashing his signature overhead smash. He arrives in China looking to capitalize on his momentum from the European leg of the tour.\n\n\n\n\n3. Alex Lanier (France)\n\n\n\n\nStatus: The European Prodigy\n\n\n\n2025 Season Highlights:\n\nWinner: 2025 European Championships (Gold Medal)\, Orleans Masters.\n\n\n\nBreakthrough: Cracked the World Top 10 for the first time in March 2025.\n\n\n\n\n\nPlayer Narrative: At just 20 years old\, Lanier has transitioned from “rising star” to a genuine title threat. By becoming the 2025 European Champion\, he proved he can handle championship pressure. His game is built on deceptive net play and a fearlessness that often rattles veteran opponents. He is the wildcard who could upset the favorites.\n\n\n\n\n4. Jason Teh (Singapore)\n\n\n\n\nStatus: The Comeback Kid\n\n\n\n2025 Season Highlights:\n\nWinner: Thailand Masters (Super 300)\, Korea Masters (Super 300).\n\n\n\nResilience: Broke a mid-season “lean spell” to win the Korea Masters in November\, proving his mental toughness.\n\n\n\n\n\nPlayer Narrative: Teh has had a rollercoaster 2025\, bookended by two brilliant title wins. His victory in Korea just last month (November 2025) suggests he is peaking at the right time. A relentless runner with a solid defense\, Teh thrives when opponents underestimate his ability to return the shuttle.\n\n\n\n\n5. Victor Lai (Canada)\n\n\n\n\nStatus: The Giant Killer\n\n\n\n2025 Season Highlights:\n\nHistoric Achievement: Won a Bronze Medal at the 2025 World Championships (Paris)\, becoming the first Canadian men’s singles player to do so.\n\n\n\nRunner-up: Canada Open (Super 300).\n\n\n\n\n\nPlayer Narrative: The biggest surprise of the 2025 season. A university student who balances textbooks with elite badminton\, Lai shocked the world by defeating former World Champion Loh Kean Yew en route to his historic bronze in Paris. He plays with a “nothing to lose” freedom that makes him incredibly dangerous in a knock-out format like the King Cup.\n\n\n\n\n6. Shi Yuqi (China)\n\n\n\n\nStatus: Defending World Champion & Home Favorite\n\n\n\n2025 Season Highlights:\n\nWinner: BWF World Championships (Paris)\, China Open (Super 1000).\n\n\n\nRunner-up: BWF World Tour Finals.\n\n\n\nWorld Ranking: Reclaimed World No. 1 spot following the World Championships.\n\n\n\n\n\nPlayer Narrative: Shi Yuqi enters the King Cup carrying the weight and pride of the host nation. As the reigning World Champion\, he is the undisputed “boss” of the current circuit. His aggressive yet composed playstyle has reached a new peak in 2025\, and playing in front of a home crowd in Shenzhen makes him the arguably strongest contender for the title. He is not just here to compete; he is here to defend China’s honor.\n\n\n\n\n7. Kento Momota (Japan)\n\n\n\n\nStatus: Former World No. 1 & Two-Time World Champion\n\n\n\nPlayer Narrative: The inclusion of Kento Momota brings a legendary aura to the tournament. While he may not possess the explosive speed of his younger years\, his courtcraft and anticipation remain unrivaled. His 2025 campaign has been about “smart badminton\,” using his experience to dismantle impatient opponents. For Momota\, the King Cup is a chance to remind the world that class is permanent and that he can still tangle with the very best.\n\n\n\n\n8. Liu Yangmingyu (China)\n\n\n\n\nStatus: 2025 World Junior Champion & The Prodigy\n\n\n\n2025 Season Highlights:\n\nWinner: BWF World Junior Championships (Gold Medal).\n\n\n\n\n\nPlayer Narrative: The wildcard of the tournament\, Liu Yangmingyu represents the future of Chinese badminton. Earning his spot by dominating the junior circuit this year\, he brings an unknown quantity to the draw that makes him dangerous. He plays with the fearless energy of a rookie who has nothing to lose\, and his speed is expected to test the stamina of the veteran players. He is looking to replicate the path of Lin Dan by making a statement on the big stage early in his career.\n\n\n\n\nDraw\n\n\n\nQuarter-finals \n\n\n\n#Player 1Player 2ScoreQF 1Shi YuqiKento Momota21-19\, 21-15QF 2Alex LanierVictor Lai21-14\, 21-19QF 3Jason TehJonatan Christie21-18\, 13-21\, 21-23QF 4Liu YangmingyuAnders Antonsen21-9\, 14-21\, 15-21\n\n\n\nSemi-finals \n\n\n\n#Player 1Player 2ScoreSF 1Shi YuqiAlex Lanier21-15\, 21-17SF 2Jonatan ChristieAnders Antonsen13-21\, 20-22\n\n\n\nThird-place Match and Final \n\n\n\nRoundPlayer 1Player 2Score3rd PlaceAlex LanierJonatan Christie21-17\, 21-19FinalShi YuqiAnders Antonsen22-20\, 21-7\n\n\n\nPrize Money\n\n\n\nThe total prize money for the 2025 tournament is CN¥3\,000\,000. This is one of the highest prize pools for an independent exhibition event in badminton. The distribution sees the winner claiming CN¥1.2 million. \n\n\n\nExchange rates are estimated based on December 2025 market rates (approx. 1 CNY = 0.14 USD / 0.58 MYR). \n\n\n\nAchievementPrize Money (CNY)Prize Money (USD)Prize Money (MYR)Champion¥ 1\,200\,000$ 169\,700RM 698\,600Runner-up¥ 600\,000$ 84\,850RM 349\,300Third Place¥ 350\,000$ 49\,500RM 203\,770Fourth Place¥ 250\,000$ 35\,350RM 145\,5505th – 8th Place¥ 150\,000$ 21\,210RM 87\,330Total Pool¥ 3\,000\,000$ 424\,240RM 1\,746\,600\n\n\n\nTournament Schedule\n\n\n\nDateRound/MatchStart Time (UTC+8)Friday\, December 26Quarter-finals1. Alex Lanier vs. Victor Lai2. Liu Yangmingyu vs. Anders Antonsen3. Shi Yuqi vs. Kento Momota4. Jason Teh vs. Jonatan Christie18:40Saturday\, December 27Exhibition match\, semi-finals1. Peter Gade / Victor Lai vs. Kento Momota / Jason Teh2. Shi Yuqi vs. Alex Lanier3. Anders Antonsen vs. Jonatan Christie4. Lin Dan / Bao Chunlai vs. Cai Yun / Fu Haifeng18:30Sunday\, December 28Third-place match\, final\, exhibition match\, and closed by awards ceremony18:30\n\n\n\nWhere To Watch Live\n\n\n\nThe 2025 King Cup will be live streamed for free on tournament’s official YouTube channel.
URL:https://badmintonworldtour.com/event/2025-king-cup/
LOCATION:Shenzhen Bay Sports Center\, 3001 Binhai Blvd\, 福田区\, Shenzhen\, Guangdong Province\, 518064\, China
CATEGORIES:Invitational Tournament
ATTACH;FMTTYPE=image/jpeg:https://badmintonworldtour.com/wp-content/uploads/2025/12/2025-King-Cup-e1764894561933.jpg
END:VEVENT
END:VCALENDAR